BEGIN:VCALENDAR
VERSION:2.0
PRODID:-//act project - Concordia University - ECPv5.6.0//NONSGML v1.0//EN
CALSCALE:GREGORIAN
METHOD:PUBLISH
X-WR-CALNAME:act project - Concordia University
X-ORIGINAL-URL:https://actproject.ca
X-WR-CALDESC:Events for act project - Concordia University
BEGIN:VTIMEZONE
TZID:America/Halifax
BEGIN:DAYLIGHT
TZOFFSETFROM:-0400
TZOFFSETTO:-0300
TZNAME:ADT
DTSTART:20210314T060000
END:DAYLIGHT
BEGIN:STANDARD
TZOFFSETFROM:-0300
TZOFFSETTO:-0400
TZNAME:AST
DTSTART:20211107T050000
END:STANDARD
END:VTIMEZONE
BEGIN:VEVENT
DTSTART;TZID=America/Halifax:20210630T100000
DTEND;TZID=America/Halifax:20210630T130000
DTSTAMP:20260420T035340
CREATED:20210528T145046Z
LAST-MODIFIED:20210528T145311Z
UID:11553-1625047200-1625058000@actproject.ca
SUMMARY:Workshop - COVID Conundrums: Rethinking Research Methods in a Pandemic
DESCRIPTION:As a pandemic has upended our lives\, the ways in which we do research have also shifted. Students and other emerging researchers\, in particular\, are asked to make impactful decisions about their own academic practices and research projects. Social distancing measures have altered fieldwork and disrupted academic plans. The predominance of online tools have posed challenges for data collection. How can we adapt\, rethink or shape our research methods in ways that are attuned to an era of profound and rapid societal change? What strategies can be harnessed to help us grapple with methodological choices in uncertain times? \nFrom discussing practical tips to probing methodological conundrums\, this interactive workshop is designed for graduate students and postdoctoral fellows working on matters related to age and ageing\, from diverse disciplines. It is organized and facilitated by researchers Dr. Line Grenier (Université de Montréal) and Dr. Barbara Ratzenböck (Graz University). Space is very limited\, register now!
URL:https://actproject.ca/event/workshop-covid-conundrums-rethinking-research-methods-in-a-pandemic/
CATEGORIES:Workshop
END:VEVENT
END:VCALENDAR