BEGIN:VCALENDAR
VERSION:2.0
PRODID:-//act project - Concordia University - ECPv5.6.0//NONSGML v1.0//EN
CALSCALE:GREGORIAN
METHOD:PUBLISH
X-WR-CALNAME:act project - Concordia University
X-ORIGINAL-URL:https://actproject.ca
X-WR-CALDESC:Events for act project - Concordia University
BEGIN:VTIMEZONE
TZID:UTC
BEGIN:STANDARD
TZOFFSETFROM:+0000
TZOFFSETTO:+0000
TZNAME:UTC
DTSTART:20170101T000000
END:STANDARD
END:VTIMEZONE
BEGIN:VEVENT
DTSTART;VALUE=DATE:20170317
DTEND;VALUE=DATE:20170318
DTSTAMP:20260419T125340
CREATED:20170314T163806Z
LAST-MODIFIED:20170314T163806Z
UID:5441-1489708800-1489795199@actproject.ca
SUMMARY:Seniors Media Day at the Atwater Library and Computer Centre
DESCRIPTION:The Atwater Library and Computer Centre is hosting organizing a full day of events for Seniors Media Day. More information here. 
URL:https://actproject.ca/event/seniors-media-day-at-the-atwater-library-and-computer-centre/
END:VEVENT
END:VCALENDAR